BEGIN:VCALENDAR
VERSION:2.0
PRODID:-//Bibb Baptist Association - ECPv6.15.13.1//NONSGML v1.0//EN
CALSCALE:GREGORIAN
METHOD:PUBLISH
X-ORIGINAL-URL:https://bibbbaptist.org
X-WR-CALDESC:Events for Bibb Baptist Association
REFRESH-INTERVAL;VALUE=DURATION:PT1H
X-Robots-Tag:noindex
X-PUBLISHED-TTL:PT1H
BEGIN:VTIMEZONE
TZID:UTC
BEGIN:STANDARD
TZOFFSETFROM:+0000
TZOFFSETTO:+0000
TZNAME:UTC
DTSTART:20240101T000000
END:STANDARD
END:VTIMEZONE
BEGIN:VEVENT
DTSTART;TZID=UTC:20250901T080000
DTEND;TZID=UTC:20250901T170000
DTSTAMP:20260425T202918
CREATED:20250701T151716Z
LAST-MODIFIED:20250701T151716Z
UID:3783-1756713600-1756746000@bibbbaptist.org
SUMMARY:New Church year begins!
DESCRIPTION:BBA churches\, please inform us of any changes to your staff\, leaders\, etc. throughout the year \nWe are here for you!
URL:https://bibbbaptist.org/event/new-church-year-begins/
END:VEVENT
BEGIN:VEVENT
DTSTART;TZID=UTC:20250818T180000
DTEND;TZID=UTC:20250818T210000
DTSTAMP:20260425T202918
CREATED:20250701T141659Z
LAST-MODIFIED:20250701T142714Z
UID:3748-1755540000-1755550800@bibbbaptist.org
SUMMARY:Samford MTI Fall Term-A
DESCRIPTION:Taught by our AMS\, Dr. William “Bill” Russell\, at Lowerytown Baptist church\, 49 Lowerytown Rd\, West Blocton.  6-9pm on Monday evenings beginning August 18\, 2025.  Register online at https://www.samford.edu/programs/ministry-training-institute/  or see Bro. Bill Russell.
URL:https://bibbbaptist.org/event/samford-mti-fall-term-a/
LOCATION:Lowerytown Baptist Church\, 49 Lowerytown Road\, West Blocto\, AL\, 35184\, United States
END:VEVENT
BEGIN:VEVENT
DTSTART;TZID=UTC:20250818T180000
DTEND;TZID=UTC:20250818T210000
DTSTAMP:20260425T202918
CREATED:20250701T141659Z
LAST-MODIFIED:20250701T142714Z
UID:3748-1755540000-1755550800@bibbbaptist.org
SUMMARY:Samford MTI Fall Term-A
DESCRIPTION:Taught by our AMS\, Dr. William “Bill” Russell\, at Lowerytown Baptist church\, 49 Lowerytown Rd\, West Blocton.  6-9pm on Monday evenings beginning August 18\, 2025.  Register online at https://www.samford.edu/programs/ministry-training-institute/  or see Bro. Bill Russell.
URL:https://bibbbaptist.org/event/samford-mti-fall-term-a/
LOCATION:Lowerytown Baptist Church\, 49 Lowerytown Road\, West Blocto\, AL\, 35184\, United States
END:VEVENT
BEGIN:VEVENT
DTSTART;TZID=UTC:20250915T080000
DTEND;TZID=UTC:20250915T150000
DTSTAMP:20260425T202918
CREATED:20250701T161132Z
LAST-MODIFIED:20250701T161132Z
UID:3791-1757923200-1757948400@bibbbaptist.org
SUMMARY:VBS Reports are due September 15th
DESCRIPTION:Choose to do your report online (print a copy) then hit submit\, or download a form and mail it in or get that completed form to Traci at the BBA office by September 15th.  Your church clerk needs a copy asap
URL:https://bibbbaptist.org/event/vbs-reports-are-due-september-15th/
END:VEVENT
BEGIN:VEVENT
DTSTART;TZID=UTC:20250915T150000
DTEND;TZID=UTC:20250915T150000
DTSTAMP:20260425T202918
CREATED:20250701T150641Z
LAST-MODIFIED:20250701T150756Z
UID:3779-1757948400-1757948400@bibbbaptist.org
SUMMARY:ACPs (Church Letters) are due by today
DESCRIPTION:Please submit your ACP no later than September 15th so we have time to update your information and enter it in the annual/current directory. \nYour BBA office and the State Board of Missions needs this important information.  I want to help every church get this submitted\, even if its not complete. Please call or email me at the BBA office -Traci Lowery
URL:https://bibbbaptist.org/event/acps-church-letters-are-due-by-today/
END:VEVENT
BEGIN:VEVENT
DTSTART;TZID=UTC:20250818T180000
DTEND;TZID=UTC:20250818T210000
DTSTAMP:20260425T202918
CREATED:20250701T141659Z
LAST-MODIFIED:20250701T142714Z
UID:3748-1755540000-1755550800@bibbbaptist.org
SUMMARY:Samford MTI Fall Term-A
DESCRIPTION:Taught by our AMS\, Dr. William “Bill” Russell\, at Lowerytown Baptist church\, 49 Lowerytown Rd\, West Blocton.  6-9pm on Monday evenings beginning August 18\, 2025.  Register online at https://www.samford.edu/programs/ministry-training-institute/  or see Bro. Bill Russell.
URL:https://bibbbaptist.org/event/samford-mti-fall-term-a/
LOCATION:Lowerytown Baptist Church\, 49 Lowerytown Road\, West Blocto\, AL\, 35184\, United States
END:VEVENT
BEGIN:VEVENT
DTSTART;TZID=UTC:20250818T180000
DTEND;TZID=UTC:20250818T210000
DTSTAMP:20260425T202918
CREATED:20250701T141659Z
LAST-MODIFIED:20250701T142714Z
UID:3748-1755540000-1755550800@bibbbaptist.org
SUMMARY:Samford MTI Fall Term-A
DESCRIPTION:Taught by our AMS\, Dr. William “Bill” Russell\, at Lowerytown Baptist church\, 49 Lowerytown Rd\, West Blocton.  6-9pm on Monday evenings beginning August 18\, 2025.  Register online at https://www.samford.edu/programs/ministry-training-institute/  or see Bro. Bill Russell.
URL:https://bibbbaptist.org/event/samford-mti-fall-term-a/
LOCATION:Lowerytown Baptist Church\, 49 Lowerytown Road\, West Blocto\, AL\, 35184\, United States
END:VEVENT
BEGIN:VEVENT
DTSTART;TZID=UTC:20250924T072000
DTEND;TZID=UTC:20250924T080000
DTSTAMP:20260425T202918
CREATED:20250909T164647Z
LAST-MODIFIED:20250909T164925Z
UID:3864-1758698400-1758700800@bibbbaptist.org
SUMMARY:See You at the Pole 2025
DESCRIPTION:
URL:https://bibbbaptist.org/event/see-you-at-the-pole-2025/
END:VEVENT
BEGIN:VEVENT
DTSTART;TZID=UTC:20250924T180000
DTEND;TZID=UTC:20250924T200000
DTSTAMP:20260425T202918
CREATED:20250909T165028Z
LAST-MODIFIED:20250909T165210Z
UID:3871-1758736800-1758744000@bibbbaptist.org
SUMMARY:Fields of Faith
DESCRIPTION:
URL:https://bibbbaptist.org/event/fields-of-faith/
END:VEVENT
BEGIN:VEVENT
DTSTART;TZID=UTC:20250818T180000
DTEND;TZID=UTC:20250818T210000
DTSTAMP:20260425T202918
CREATED:20250701T141659Z
LAST-MODIFIED:20250701T142714Z
UID:3748-1755540000-1755550800@bibbbaptist.org
SUMMARY:Samford MTI Fall Term-A
DESCRIPTION:Taught by our AMS\, Dr. William “Bill” Russell\, at Lowerytown Baptist church\, 49 Lowerytown Rd\, West Blocton.  6-9pm on Monday evenings beginning August 18\, 2025.  Register online at https://www.samford.edu/programs/ministry-training-institute/  or see Bro. Bill Russell.
URL:https://bibbbaptist.org/event/samford-mti-fall-term-a/
LOCATION:Lowerytown Baptist Church\, 49 Lowerytown Road\, West Blocto\, AL\, 35184\, United States
END:VEVENT
END:VCALENDAR