BEGIN:VCALENDAR
VERSION:2.0
PRODID:-//Bibb Baptist Association - ECPv6.15.13.1//NONSGML v1.0//EN
CALSCALE:GREGORIAN
METHOD:PUBLISH
X-WR-CALNAME:Bibb Baptist Association
X-ORIGINAL-URL:https://bibbbaptist.org
X-WR-CALDESC:Events for Bibb Baptist Association
REFRESH-INTERVAL;VALUE=DURATION:PT1H
X-Robots-Tag:noindex
X-PUBLISHED-TTL:PT1H
BEGIN:VTIMEZONE
TZID:UTC
BEGIN:STANDARD
TZOFFSETFROM:+0000
TZOFFSETTO:+0000
TZNAME:UTC
DTSTART:20240101T000000
END:STANDARD
END:VTIMEZONE
BEGIN:VEVENT
DTSTART;TZID=UTC:20250713T180000
DTEND;TZID=UTC:20250713T200000
DTSTAMP:20260425T203230
CREATED:20250319T165416Z
LAST-MODIFIED:20250319T165536Z
UID:3624-1752429600-1752436800@bibbbaptist.org
SUMMARY:VBS "Magnified" at Old Union
DESCRIPTION:July 13-18; 6-8pm(?)  Family Night on 18th
URL:https://bibbbaptist.org/event/vbs-magnified-at-old-union/
END:VEVENT
BEGIN:VEVENT
DTSTART;TZID=UTC:20250720T170000
DTEND;TZID=UTC:20250720T170000
DTSTAMP:20260425T203230
CREATED:20250319T160635Z
LAST-MODIFIED:20250319T164025Z
UID:3576-1753030800-1753030800@bibbbaptist.org
SUMMARY:VBS "Wonder Junction" at Mt. Carmel
DESCRIPTION:July 20-24; 5-8pm
URL:https://bibbbaptist.org/event/vbs-wonder-junction-at-mt-carmel/
END:VEVENT
BEGIN:VEVENT
DTSTART;TZID=UTC:20250724T180000
DTEND;TZID=UTC:20250724T193000
DTSTAMP:20260425T203230
CREATED:20250701T143028Z
LAST-MODIFIED:20250701T143028Z
UID:3755-1753380000-1753385400@bibbbaptist.org
SUMMARY:Finance Committee Meeting
DESCRIPTION:Working on the 2025-2026 budget
URL:https://bibbbaptist.org/event/finance-committee-meeting/
END:VEVENT
END:VCALENDAR