BEGIN:VCALENDAR
VERSION:2.0
PRODID:-//Bibb Baptist Association - ECPv6.15.13.1//NONSGML v1.0//EN
CALSCALE:GREGORIAN
METHOD:PUBLISH
X-ORIGINAL-URL:https://bibbbaptist.org
X-WR-CALDESC:Events for Bibb Baptist Association
REFRESH-INTERVAL;VALUE=DURATION:PT1H
X-Robots-Tag:noindex
X-PUBLISHED-TTL:PT1H
BEGIN:VTIMEZONE
TZID:UTC
BEGIN:STANDARD
TZOFFSETFROM:+0000
TZOFFSETTO:+0000
TZNAME:UTC
DTSTART:20250101T000000
END:STANDARD
END:VTIMEZONE
BEGIN:VEVENT
DTSTART;TZID=UTC:20260129T180000
DTEND;TZID=UTC:20260129T190000
DTSTAMP:20260426T041407
CREATED:20260114T165233Z
LAST-MODIFIED:20260114T170039Z
UID:3973-1769709600-1769713200@bibbbaptist.org
SUMMARY:Luke in the Land Bible Study for Women
DESCRIPTION:This study is on Thursday nights at 6:00pm\, beginning January 29th at Lowerytown Baptist Church 49 Lowerytown Rd. West Blocton\, Al 35184. By Kristi McLelland. Led by Gidget Jarrell
URL:https://bibbbaptist.org/event/luke-in-the-land-bible-study-for-women/
LOCATION:AL
END:VEVENT
BEGIN:VEVENT
DTSTART;TZID=UTC:20260131T080000
DTEND;TZID=UTC:20260131T130000
DTSTAMP:20260426T041407
CREATED:20260114T164934Z
LAST-MODIFIED:20260114T164934Z
UID:3969-1769846400-1769864400@bibbbaptist.org
SUMMARY:Coffee & Conversations Women's Conference FBC Woodstock
DESCRIPTION:January 31st 8:00am – 1:00pm at FBC Woodstock\, 2473 Coldwater Rd\, Woodstock\, AL 35188 \nA step into biblical womanhood & Proverbs 31 \nBrunch & coffee served mid-morning
URL:https://bibbbaptist.org/event/coffee-conversations-womens-conference-fbc-woodstock/
LOCATION:AL
END:VEVENT
BEGIN:VEVENT
DTSTART;TZID=UTC:20260204T090000
DTEND;TZID=UTC:20260204T103000
DTSTAMP:20260426T041407
CREATED:20260114T165557Z
LAST-MODIFIED:20260114T165811Z
UID:3977-1770195600-1770201000@bibbbaptist.org
SUMMARY:Women's Bible study at the BBA office
DESCRIPTION:“Jesus Followers” by Anne Graham Lotz & Rachel Ruth Lotz Wright. \nLed by Caren Jones on Wednesday mornings at the Bibb Baptist Association office. Beginning February 4th – March 4th; 9:00am – 10:30am \nWe’d love to have you join us! Great Fellowship!
URL:https://bibbbaptist.org/event/womens-bible-study-at-the-bba-office/
LOCATION:AL
END:VEVENT
BEGIN:VEVENT
DTSTART;TZID=UTC:20260210T183000
DTEND;TZID=UTC:20260210T200000
DTSTAMP:20260426T041407
CREATED:20260114T164333Z
LAST-MODIFIED:20260114T164333Z
UID:3961-1770748200-1770753600@bibbbaptist.org
SUMMARY:Executive Committee Meeting
DESCRIPTION:February 10th \n6:30pm Meal – 7:00 Meeting \nGuest speaker: Rick Renshaw with Scott Dawson Ministries
URL:https://bibbbaptist.org/event/executive-committee-meeting-2/
LOCATION:AL
END:VEVENT
BEGIN:VEVENT
DTSTART;TZID=UTC:20260412T130000
DTEND;TZID=UTC:20260412T140000
DTSTAMP:20260426T041407
CREATED:20260408T191033Z
LAST-MODIFIED:20260408T191033Z
UID:4138-1775998800-1776002400@bibbbaptist.org
SUMMARY:Youth Leaders Lunch meeting 1pm
DESCRIPTION:Meeting at Juanes Mexican Grill in Brent at 1pm to discuss SPEAK TOUR
URL:https://bibbbaptist.org/event/youth-leaders-lunch-meeting-1pm/
LOCATION:AL
END:VEVENT
BEGIN:VEVENT
DTSTART;TZID=UTC:20260419T180000
DTEND;TZID=UTC:20260419T200000
DTSTAMP:20260426T041407
CREATED:20260408T190615Z
LAST-MODIFIED:20260408T192942Z
UID:4134-1776621600-1776628800@bibbbaptist.org
SUMMARY:Spring Renewal
DESCRIPTION:Celebrate 250 Spring Renewal at Shady Grove Baptist on Hwy 139 6pm \nGuest Preacher: Tom Jordan \nMusic Leader: Glenda Rice \nRefreshments afterwards
URL:https://bibbbaptist.org/event/spring-renewal-2/
LOCATION:AL
END:VEVENT
BEGIN:VEVENT
DTSTART;VALUE=DATE:20260429
DTEND;VALUE=DATE:20260430
DTSTAMP:20260426T041407
CREATED:20260408T191309Z
LAST-MODIFIED:20260408T191448Z
UID:4142-1777420800-1777507199@bibbbaptist.org
SUMMARY:SPEAK TOUR
DESCRIPTION:More info to come.  Contact TJ Phelps
URL:https://bibbbaptist.org/event/speak-tour/
LOCATION:AL
END:VEVENT
BEGIN:VEVENT
DTSTART;TZID=UTC:20261101T180000
DTEND;TZID=UTC:20261101T200000
DTSTAMP:20260426T041407
CREATED:20260408T192651Z
LAST-MODIFIED:20260408T192651Z
UID:4146-1793556000-1793563200@bibbbaptist.org
SUMMARY:Celebrate 250 Revival
DESCRIPTION:At Four Points Baptist Church \nSunday the 1st – 6pm – Dr. Kevin Blackwell –  refreshments afterwards \nMonday the 2nd – meal at 6pm – Dr. Robert Smith at 7pm \nTuesday the 3rd – meal at 6pm – Dr. Tom Richter at 7pm \n 
URL:https://bibbbaptist.org/event/celebrate-250-revival/
LOCATION:AL
END:VEVENT
END:VCALENDAR