BEGIN:VCALENDAR
VERSION:2.0
PRODID:-//Bibb Baptist Association - ECPv6.15.13.1//NONSGML v1.0//EN
CALSCALE:GREGORIAN
METHOD:PUBLISH
X-WR-CALNAME:Bibb Baptist Association
X-ORIGINAL-URL:https://bibbbaptist.org
X-WR-CALDESC:Events for Bibb Baptist Association
REFRESH-INTERVAL;VALUE=DURATION:PT1H
X-Robots-Tag:noindex
X-PUBLISHED-TTL:PT1H
BEGIN:VTIMEZONE
TZID:UTC
BEGIN:STANDARD
TZOFFSETFROM:+0000
TZOFFSETTO:+0000
TZNAME:UTC
DTSTART:20240101T000000
END:STANDARD
END:VTIMEZONE
BEGIN:VEVENT
DTSTART;TZID=UTC:20251018T180000
DTEND;TZID=UTC:20251018T200000
DTSTAMP:20260425T221327
CREATED:20250910T134406Z
LAST-MODIFIED:20250910T134621Z
UID:3878-1760810400-1760817600@bibbbaptist.org
SUMMARY:SINGING: Goodman Revival
DESCRIPTION:
URL:https://bibbbaptist.org/event/singing-goodman-revival/
LOCATION:AL
END:VEVENT
BEGIN:VEVENT
DTSTART;TZID=UTC:20250818T180000
DTEND;TZID=UTC:20250818T210000
DTSTAMP:20260425T221327
CREATED:20250701T141659Z
LAST-MODIFIED:20250701T142714Z
UID:3748-1755540000-1755550800@bibbbaptist.org
SUMMARY:Samford MTI Fall Term-A
DESCRIPTION:Taught by our AMS\, Dr. William “Bill” Russell\, at Lowerytown Baptist church\, 49 Lowerytown Rd\, West Blocton.  6-9pm on Monday evenings beginning August 18\, 2025.  Register online at https://www.samford.edu/programs/ministry-training-institute/  or see Bro. Bill Russell.
URL:https://bibbbaptist.org/event/samford-mti-fall-term-a/
LOCATION:Lowerytown Baptist Church\, 49 Lowerytown Road\, West Blocto\, AL\, 35184\, United States
END:VEVENT
BEGIN:VEVENT
DTSTART;TZID=UTC:20250818T180000
DTEND;TZID=UTC:20250818T210000
DTSTAMP:20260425T221327
CREATED:20250701T141659Z
LAST-MODIFIED:20250701T142714Z
UID:3748-1755540000-1755550800@bibbbaptist.org
SUMMARY:Samford MTI Fall Term-A
DESCRIPTION:Taught by our AMS\, Dr. William “Bill” Russell\, at Lowerytown Baptist church\, 49 Lowerytown Rd\, West Blocton.  6-9pm on Monday evenings beginning August 18\, 2025.  Register online at https://www.samford.edu/programs/ministry-training-institute/  or see Bro. Bill Russell.
URL:https://bibbbaptist.org/event/samford-mti-fall-term-a/
LOCATION:Lowerytown Baptist Church\, 49 Lowerytown Road\, West Blocto\, AL\, 35184\, United States
END:VEVENT
BEGIN:VEVENT
DTSTART;TZID=UTC:20250924T180000
DTEND;TZID=UTC:20250924T200000
DTSTAMP:20260425T221327
CREATED:20250909T165028Z
LAST-MODIFIED:20250909T165210Z
UID:3871-1758736800-1758744000@bibbbaptist.org
SUMMARY:Fields of Faith
DESCRIPTION:
URL:https://bibbbaptist.org/event/fields-of-faith/
LOCATION:AL
END:VEVENT
BEGIN:VEVENT
DTSTART;TZID=UTC:20250924T072000
DTEND;TZID=UTC:20250924T080000
DTSTAMP:20260425T221327
CREATED:20250909T164647Z
LAST-MODIFIED:20250909T164925Z
UID:3864-1758698400-1758700800@bibbbaptist.org
SUMMARY:See You at the Pole 2025
DESCRIPTION:
URL:https://bibbbaptist.org/event/see-you-at-the-pole-2025/
LOCATION:AL
END:VEVENT
BEGIN:VEVENT
DTSTART;TZID=UTC:20250818T180000
DTEND;TZID=UTC:20250818T210000
DTSTAMP:20260425T221327
CREATED:20250701T141659Z
LAST-MODIFIED:20250701T142714Z
UID:3748-1755540000-1755550800@bibbbaptist.org
SUMMARY:Samford MTI Fall Term-A
DESCRIPTION:Taught by our AMS\, Dr. William “Bill” Russell\, at Lowerytown Baptist church\, 49 Lowerytown Rd\, West Blocton.  6-9pm on Monday evenings beginning August 18\, 2025.  Register online at https://www.samford.edu/programs/ministry-training-institute/  or see Bro. Bill Russell.
URL:https://bibbbaptist.org/event/samford-mti-fall-term-a/
LOCATION:Lowerytown Baptist Church\, 49 Lowerytown Road\, West Blocto\, AL\, 35184\, United States
END:VEVENT
BEGIN:VEVENT
DTSTART;TZID=UTC:20250818T180000
DTEND;TZID=UTC:20250818T210000
DTSTAMP:20260425T221327
CREATED:20250701T141659Z
LAST-MODIFIED:20250701T142714Z
UID:3748-1755540000-1755550800@bibbbaptist.org
SUMMARY:Samford MTI Fall Term-A
DESCRIPTION:Taught by our AMS\, Dr. William “Bill” Russell\, at Lowerytown Baptist church\, 49 Lowerytown Rd\, West Blocton.  6-9pm on Monday evenings beginning August 18\, 2025.  Register online at https://www.samford.edu/programs/ministry-training-institute/  or see Bro. Bill Russell.
URL:https://bibbbaptist.org/event/samford-mti-fall-term-a/
LOCATION:Lowerytown Baptist Church\, 49 Lowerytown Road\, West Blocto\, AL\, 35184\, United States
END:VEVENT
BEGIN:VEVENT
DTSTART;TZID=UTC:20250915T150000
DTEND;TZID=UTC:20250915T150000
DTSTAMP:20260425T221327
CREATED:20250701T150641Z
LAST-MODIFIED:20250701T150756Z
UID:3779-1757948400-1757948400@bibbbaptist.org
SUMMARY:ACPs (Church Letters) are due by today
DESCRIPTION:Please submit your ACP no later than September 15th so we have time to update your information and enter it in the annual/current directory. \nYour BBA office and the State Board of Missions needs this important information.  I want to help every church get this submitted\, even if its not complete. Please call or email me at the BBA office -Traci Lowery
URL:https://bibbbaptist.org/event/acps-church-letters-are-due-by-today/
LOCATION:AL
END:VEVENT
BEGIN:VEVENT
DTSTART;TZID=UTC:20250915T080000
DTEND;TZID=UTC:20250915T150000
DTSTAMP:20260425T221327
CREATED:20250701T161132Z
LAST-MODIFIED:20250701T161132Z
UID:3791-1757923200-1757948400@bibbbaptist.org
SUMMARY:VBS Reports are due September 15th
DESCRIPTION:Choose to do your report online (print a copy) then hit submit\, or download a form and mail it in or get that completed form to Traci at the BBA office by September 15th.  Your church clerk needs a copy asap
URL:https://bibbbaptist.org/event/vbs-reports-are-due-september-15th/
LOCATION:AL
END:VEVENT
BEGIN:VEVENT
DTSTART;TZID=UTC:20250818T180000
DTEND;TZID=UTC:20250818T210000
DTSTAMP:20260425T221327
CREATED:20250701T141659Z
LAST-MODIFIED:20250701T142714Z
UID:3748-1755540000-1755550800@bibbbaptist.org
SUMMARY:Samford MTI Fall Term-A
DESCRIPTION:Taught by our AMS\, Dr. William “Bill” Russell\, at Lowerytown Baptist church\, 49 Lowerytown Rd\, West Blocton.  6-9pm on Monday evenings beginning August 18\, 2025.  Register online at https://www.samford.edu/programs/ministry-training-institute/  or see Bro. Bill Russell.
URL:https://bibbbaptist.org/event/samford-mti-fall-term-a/
LOCATION:Lowerytown Baptist Church\, 49 Lowerytown Road\, West Blocto\, AL\, 35184\, United States
END:VEVENT
BEGIN:VEVENT
DTSTART;TZID=UTC:20250818T180000
DTEND;TZID=UTC:20250818T210000
DTSTAMP:20260425T221327
CREATED:20250701T141659Z
LAST-MODIFIED:20250701T142714Z
UID:3748-1755540000-1755550800@bibbbaptist.org
SUMMARY:Samford MTI Fall Term-A
DESCRIPTION:Taught by our AMS\, Dr. William “Bill” Russell\, at Lowerytown Baptist church\, 49 Lowerytown Rd\, West Blocton.  6-9pm on Monday evenings beginning August 18\, 2025.  Register online at https://www.samford.edu/programs/ministry-training-institute/  or see Bro. Bill Russell.
URL:https://bibbbaptist.org/event/samford-mti-fall-term-a/
LOCATION:Lowerytown Baptist Church\, 49 Lowerytown Road\, West Blocto\, AL\, 35184\, United States
END:VEVENT
BEGIN:VEVENT
DTSTART;TZID=UTC:20250901T080000
DTEND;TZID=UTC:20250901T170000
DTSTAMP:20260425T221327
CREATED:20250701T151716Z
LAST-MODIFIED:20250701T151716Z
UID:3783-1756713600-1756746000@bibbbaptist.org
SUMMARY:New Church year begins!
DESCRIPTION:BBA churches\, please inform us of any changes to your staff\, leaders\, etc. throughout the year \nWe are here for you!
URL:https://bibbbaptist.org/event/new-church-year-begins/
LOCATION:AL
END:VEVENT
BEGIN:VEVENT
DTSTART;TZID=UTC:20250818T180000
DTEND;TZID=UTC:20250818T210000
DTSTAMP:20260425T221327
CREATED:20250701T141659Z
LAST-MODIFIED:20250701T142714Z
UID:3748-1755540000-1755550800@bibbbaptist.org
SUMMARY:Samford MTI Fall Term-A
DESCRIPTION:Taught by our AMS\, Dr. William “Bill” Russell\, at Lowerytown Baptist church\, 49 Lowerytown Rd\, West Blocton.  6-9pm on Monday evenings beginning August 18\, 2025.  Register online at https://www.samford.edu/programs/ministry-training-institute/  or see Bro. Bill Russell.
URL:https://bibbbaptist.org/event/samford-mti-fall-term-a/
LOCATION:Lowerytown Baptist Church\, 49 Lowerytown Road\, West Blocto\, AL\, 35184\, United States
END:VEVENT
BEGIN:VEVENT
DTSTART;TZID=UTC:20250821T183000
DTEND;TZID=UTC:20250821T193000
DTSTAMP:20260425T221327
CREATED:20250617T190342Z
LAST-MODIFIED:20250617T190342Z
UID:3728-1755801000-1755804600@bibbbaptist.org
SUMMARY:Ministry Assistant Appreciation Dinner
DESCRIPTION:6:30pm at the BBA office. RSVP by 8/12/25
URL:https://bibbbaptist.org/event/ministry-assistant-appreciation-dinner/
LOCATION:AL
END:VEVENT
BEGIN:VEVENT
DTSTART;TZID=UTC:20250821T090000
DTEND;TZID=UTC:20250821T130000
DTSTAMP:20260425T221327
CREATED:20250701T144127Z
LAST-MODIFIED:20250701T144127Z
UID:3766-1755766800-1755781200@bibbbaptist.org
SUMMARY:District 8 AMS Fellowship
DESCRIPTION:The BBA office looks forward to hosting a fellowship for district 8 Associational Missions Strategists. \nRefreshments\, fellowship and lunch. \n 
URL:https://bibbbaptist.org/event/district-8-ams-fellowship/
LOCATION:AL
END:VEVENT
BEGIN:VEVENT
DTSTART;TZID=UTC:20250818T180000
DTEND;TZID=UTC:20250818T210000
DTSTAMP:20260425T221327
CREATED:20250701T141659Z
LAST-MODIFIED:20250701T142714Z
UID:3748-1755540000-1755550800@bibbbaptist.org
SUMMARY:Samford MTI Fall Term-A
DESCRIPTION:Taught by our AMS\, Dr. William “Bill” Russell\, at Lowerytown Baptist church\, 49 Lowerytown Rd\, West Blocton.  6-9pm on Monday evenings beginning August 18\, 2025.  Register online at https://www.samford.edu/programs/ministry-training-institute/  or see Bro. Bill Russell.
URL:https://bibbbaptist.org/event/samford-mti-fall-term-a/
LOCATION:Lowerytown Baptist Church\, 49 Lowerytown Road\, West Blocto\, AL\, 35184\, United States
END:VEVENT
BEGIN:VEVENT
DTSTART;TZID=UTC:20250812T183000
DTEND;TZID=UTC:20250812T200000
DTSTAMP:20260425T221327
CREATED:20250701T143458Z
LAST-MODIFIED:20250701T143544Z
UID:3762-1755023400-1755028800@bibbbaptist.org
SUMMARY:Executive Committee Meeting
DESCRIPTION:Executive Committee to review reports and new budget for 2025-2026 \nMeal at 6:30 and meeting at 7:00 at the BBA office
URL:https://bibbbaptist.org/event/executive-committee-meeting/
LOCATION:AL
END:VEVENT
BEGIN:VEVENT
DTSTART;TZID=UTC:20250812T080000
DTEND;TZID=UTC:20250812T150000
DTSTAMP:20260425T221327
CREATED:20250701T144510Z
LAST-MODIFIED:20250701T144510Z
UID:3770-1754985600-1755010800@bibbbaptist.org
SUMMARY:Deadline to RSVP for the BBA Ministry Assistant Appreciation Dinner
DESCRIPTION:Please RSVP to Traci:  205-926-7866 or assocbibb@gmil.com
URL:https://bibbbaptist.org/event/deadline-to-rsvp-for-the-bba-ministry-assistant-appreciation-dinner/
LOCATION:AL
END:VEVENT
BEGIN:VEVENT
DTSTART;TZID=UTC:20250724T180000
DTEND;TZID=UTC:20250724T193000
DTSTAMP:20260425T221327
CREATED:20250701T143028Z
LAST-MODIFIED:20250701T143028Z
UID:3755-1753380000-1753385400@bibbbaptist.org
SUMMARY:Finance Committee Meeting
DESCRIPTION:Working on the 2025-2026 budget
URL:https://bibbbaptist.org/event/finance-committee-meeting/
LOCATION:AL
END:VEVENT
BEGIN:VEVENT
DTSTART;TZID=UTC:20250720T170000
DTEND;TZID=UTC:20250720T170000
DTSTAMP:20260425T221327
CREATED:20250319T160635Z
LAST-MODIFIED:20250319T164025Z
UID:3576-1753030800-1753030800@bibbbaptist.org
SUMMARY:VBS "Wonder Junction" at Mt. Carmel
DESCRIPTION:July 20-24; 5-8pm
URL:https://bibbbaptist.org/event/vbs-wonder-junction-at-mt-carmel/
LOCATION:AL
END:VEVENT
BEGIN:VEVENT
DTSTART;TZID=UTC:20250713T180000
DTEND;TZID=UTC:20250713T200000
DTSTAMP:20260425T221327
CREATED:20250319T165416Z
LAST-MODIFIED:20250319T165536Z
UID:3624-1752429600-1752436800@bibbbaptist.org
SUMMARY:VBS "Magnified" at Old Union
DESCRIPTION:July 13-18; 6-8pm(?)  Family Night on 18th
URL:https://bibbbaptist.org/event/vbs-magnified-at-old-union/
LOCATION:AL
END:VEVENT
BEGIN:VEVENT
DTSTART;TZID=UTC:20250622T180000
DTEND;TZID=UTC:20250622T203000
DTSTAMP:20260425T221327
CREATED:20250319T153016Z
LAST-MODIFIED:20250319T164208Z
UID:3562-1750615200-1750624200@bibbbaptist.org
SUMMARY:VBS "Magnified" at Ashby
DESCRIPTION:Age 4-Adults; 6/21 Kick-off 1pm; 6/22-6/26; 6:00-8:30pm; dinner provided nightly at 5pm; Family Night 6/27 at 6pm
URL:https://bibbbaptist.org/event/vbs-magnified-at-ashby/
LOCATION:AL
END:VEVENT
BEGIN:VEVENT
DTSTART;TZID=UTC:20250622T000000
DTEND;TZID=UTC:20250622T000000
DTSTAMP:20260425T221327
CREATED:20250319T164656Z
LAST-MODIFIED:20250319T164941Z
UID:3610-1750550400-1750550400@bibbbaptist.org
SUMMARY:VBS "Magnified" at Randolph
DESCRIPTION:Age 4-6th grade completed); June 22-25; Time TBD \n7th-12th Youth Retreat June 22-24
URL:https://bibbbaptist.org/event/vbs-magnified-at-randolph/
LOCATION:AL
END:VEVENT
BEGIN:VEVENT
DTSTART;TZID=UTC:20250616T173000
DTEND;TZID=UTC:20250616T203000
DTSTAMP:20260425T221327
CREATED:20250319T160202Z
LAST-MODIFIED:20250319T160202Z
UID:3568-1750095000-1750105800@bibbbaptist.org
SUMMARY:VBS "Rodeo Round-Up" at Four Points
DESCRIPTION:Kinder- 6th grade; June 16-19 5:30-8:30pm; Family Night 6/20
URL:https://bibbbaptist.org/event/vbs-rodeo-round-up-at-four-points-2/
LOCATION:AL
END:VEVENT
BEGIN:VEVENT
DTSTART;TZID=UTC:20250615T180000
DTEND;TZID=UTC:20250615T200000
DTSTAMP:20260425T221327
CREATED:20250319T164517Z
LAST-MODIFIED:20250319T164629Z
UID:3604-1750010400-1750017600@bibbbaptist.org
SUMMARY:VBS "Magnified" at Pineview
DESCRIPTION:June 15-19; 6pm; Commencement June 20th
URL:https://bibbbaptist.org/event/vbs-magnified-at-pineview/
LOCATION:AL
END:VEVENT
BEGIN:VEVENT
DTSTART;TZID=UTC:20250609T180000
DTEND;TZID=UTC:20250609T203000
DTSTAMP:20260425T221327
CREATED:20250319T161353Z
LAST-MODIFIED:20250319T161505Z
UID:3589-1749492000-1749501000@bibbbaptist.org
SUMMARY:VBS "True North" at Lowerytown
DESCRIPTION:K5 – 6th grade; June 9-13  6-8:30pm; Family Night June 13 6pm
URL:https://bibbbaptist.org/event/vbs-true-north-at-lowerytown/
LOCATION:AL
END:VEVENT
BEGIN:VEVENT
DTSTART;TZID=UTC:20250609T000000
DTEND;TZID=UTC:20250609T000000
DTSTAMP:20260425T221327
CREATED:20250319T165200Z
LAST-MODIFIED:20250319T165234Z
UID:3620-1749427200-1749427200@bibbbaptist.org
SUMMARY:VBS at Bethlehem
DESCRIPTION:June 9-13; Time TBD
URL:https://bibbbaptist.org/event/vbs-at-bethlehem/
LOCATION:AL
END:VEVENT
BEGIN:VEVENT
DTSTART;TZID=UTC:20250608T170000
DTEND;TZID=UTC:20250608T190000
DTSTAMP:20260425T221327
CREATED:20250319T164328Z
LAST-MODIFIED:20250319T164453Z
UID:3598-1749402000-1749409200@bibbbaptist.org
SUMMARY:VBS "Building on the Rock" at New Life
DESCRIPTION:K3-6th grade (?) June 8\, 5-7pm; June 9-10 6-8pm;
URL:https://bibbbaptist.org/event/vbs-building-on-the-rock-at-new-life/
LOCATION:AL
END:VEVENT
BEGIN:VEVENT
DTSTART;TZID=UTC:20250607T000000
DTEND;TZID=UTC:20250607T000000
DTSTAMP:20260425T221327
CREATED:20250319T171311Z
LAST-MODIFIED:20250319T171532Z
UID:3644-1749254400-1749254400@bibbbaptist.org
SUMMARY:BLOCK PARTY at Lowerytown
DESCRIPTION:YARD SALE (free items)\, food\, music\, games\, Just a great time! Come join us!  Time TBD – May be inside and outside!
URL:https://bibbbaptist.org/event/block-party-at-lowerytown/
LOCATION:AL
END:VEVENT
BEGIN:VEVENT
DTSTART;TZID=UTC:20250602T083000
DTEND;TZID=UTC:20250602T123000
DTSTAMP:20260425T221327
CREATED:20250319T165132Z
LAST-MODIFIED:20250319T165132Z
UID:3616-1748853000-1748867400@bibbbaptist.org
SUMMARY:VBS "Magnified" at West Blocton FBC
DESCRIPTION:June 2-6; 8:30am-12:30noon; Early drop off for working parents
URL:https://bibbbaptist.org/event/vbs-magnified-at-west-blocton-fbc/
LOCATION:AL
END:VEVENT
END:VCALENDAR