BEGIN:VCALENDAR
VERSION:2.0
PRODID:-//Bibb Baptist Association - ECPv6.15.13.1//NONSGML v1.0//EN
CALSCALE:GREGORIAN
METHOD:PUBLISH
X-ORIGINAL-URL:https://bibbbaptist.org
X-WR-CALDESC:Events for Bibb Baptist Association
REFRESH-INTERVAL;VALUE=DURATION:PT1H
X-Robots-Tag:noindex
X-PUBLISHED-TTL:PT1H
BEGIN:VTIMEZONE
TZID:UTC
BEGIN:STANDARD
TZOFFSETFROM:+0000
TZOFFSETTO:+0000
TZNAME:UTC
DTSTART:20250101T000000
END:STANDARD
END:VTIMEZONE
BEGIN:VEVENT
DTSTART;TZID=UTC:20260131T080000
DTEND;TZID=UTC:20260131T130000
DTSTAMP:20260425T213046
CREATED:20260114T164934Z
LAST-MODIFIED:20260114T164934Z
UID:3969-1769846400-1769864400@bibbbaptist.org
SUMMARY:Coffee & Conversations Women's Conference FBC Woodstock
DESCRIPTION:January 31st 8:00am – 1:00pm at FBC Woodstock\, 2473 Coldwater Rd\, Woodstock\, AL 35188 \nA step into biblical womanhood & Proverbs 31 \nBrunch & coffee served mid-morning
URL:https://bibbbaptist.org/event/coffee-conversations-womens-conference-fbc-woodstock/
END:VEVENT
END:VCALENDAR