BEGIN:VCALENDAR
VERSION:2.0
PRODID:-//Bibb Baptist Association - ECPv6.15.13.1//NONSGML v1.0//EN
CALSCALE:GREGORIAN
METHOD:PUBLISH
X-ORIGINAL-URL:https://bibbbaptist.org
X-WR-CALDESC:Events for Bibb Baptist Association
REFRESH-INTERVAL;VALUE=DURATION:PT1H
X-Robots-Tag:noindex
X-PUBLISHED-TTL:PT1H
BEGIN:VTIMEZONE
TZID:UTC
BEGIN:STANDARD
TZOFFSETFROM:+0000
TZOFFSETTO:+0000
TZNAME:UTC
DTSTART:20240101T000000
END:STANDARD
END:VTIMEZONE
BEGIN:VEVENT
DTSTART;TZID=UTC:20250812T080000
DTEND;TZID=UTC:20250812T150000
DTSTAMP:20260425T203253
CREATED:20250701T144510Z
LAST-MODIFIED:20250701T144510Z
UID:3770-1754985600-1755010800@bibbbaptist.org
SUMMARY:Deadline to RSVP for the BBA Ministry Assistant Appreciation Dinner
DESCRIPTION:Please RSVP to Traci:  205-926-7866 or assocbibb@gmil.com
URL:https://bibbbaptist.org/event/deadline-to-rsvp-for-the-bba-ministry-assistant-appreciation-dinner/
END:VEVENT
BEGIN:VEVENT
DTSTART;TZID=UTC:20250812T183000
DTEND;TZID=UTC:20250812T200000
DTSTAMP:20260425T203253
CREATED:20250701T143458Z
LAST-MODIFIED:20250701T143544Z
UID:3762-1755023400-1755028800@bibbbaptist.org
SUMMARY:Executive Committee Meeting
DESCRIPTION:Executive Committee to review reports and new budget for 2025-2026 \nMeal at 6:30 and meeting at 7:00 at the BBA office
URL:https://bibbbaptist.org/event/executive-committee-meeting/
END:VEVENT
END:VCALENDAR